BEGIN:VCALENDAR
VERSION:2.0
PRODID:-//Yeagers Farm - ECPv6.15.13//NONSGML v1.0//EN
CALSCALE:GREGORIAN
METHOD:PUBLISH
X-ORIGINAL-URL:https://yeagersfarm.com
X-WR-CALDESC:Events for Yeagers Farm
REFRESH-INTERVAL;VALUE=DURATION:PT1H
X-Robots-Tag:noindex
X-PUBLISHED-TTL:PT1H
BEGIN:VTIMEZONE
TZID:America/New_York
BEGIN:DAYLIGHT
TZOFFSETFROM:-0500
TZOFFSETTO:-0400
TZNAME:EDT
DTSTART:20210314T070000
END:DAYLIGHT
BEGIN:STANDARD
TZOFFSETFROM:-0400
TZOFFSETTO:-0500
TZNAME:EST
DTSTART:20211107T060000
END:STANDARD
BEGIN:DAYLIGHT
TZOFFSETFROM:-0500
TZOFFSETTO:-0400
TZNAME:EDT
DTSTART:20220313T070000
END:DAYLIGHT
BEGIN:STANDARD
TZOFFSETFROM:-0400
TZOFFSETTO:-0500
TZNAME:EST
DTSTART:20221106T060000
END:STANDARD
BEGIN:DAYLIGHT
TZOFFSETFROM:-0500
TZOFFSETTO:-0400
TZNAME:EDT
DTSTART:20230312T070000
END:DAYLIGHT
BEGIN:STANDARD
TZOFFSETFROM:-0400
TZOFFSETTO:-0500
TZNAME:EST
DTSTART:20231105T060000
END:STANDARD
BEGIN:DAYLIGHT
TZOFFSETFROM:-0500
TZOFFSETTO:-0400
TZNAME:EDT
DTSTART:20240310T070000
END:DAYLIGHT
BEGIN:STANDARD
TZOFFSETFROM:-0400
TZOFFSETTO:-0500
TZNAME:EST
DTSTART:20241103T060000
END:STANDARD
BEGIN:DAYLIGHT
TZOFFSETFROM:-0500
TZOFFSETTO:-0400
TZNAME:EDT
DTSTART:20250309T070000
END:DAYLIGHT
BEGIN:STANDARD
TZOFFSETFROM:-0400
TZOFFSETTO:-0500
TZNAME:EST
DTSTART:20251102T060000
END:STANDARD
BEGIN:DAYLIGHT
TZOFFSETFROM:-0500
TZOFFSETTO:-0400
TZNAME:EDT
DTSTART:20260308T070000
END:DAYLIGHT
BEGIN:STANDARD
TZOFFSETFROM:-0400
TZOFFSETTO:-0500
TZNAME:EST
DTSTART:20261101T060000
END:STANDARD
END:VTIMEZONE
BEGIN:VEVENT
DTSTART;TZID=America/New_York:20250803T090000
DTEND;TZID=America/New_York:20250803T150000
DTSTAMP:20260421T074805
CREATED:20240630T142243Z
LAST-MODIFIED:20250726T150354Z
UID:1092-1754211600-1754233200@yeagersfarm.com
SUMMARY:TREE TANGLE Bike Race and Ride @ Yeager's Farm
DESCRIPTION:Our second annual Bike Race and Ride through the fields and woods at Yeager’s Farm! There is something for EVERYONE at this event!
URL:https://yeagersfarm.com/event/pxv-tree-tangle-yeagers-farm/
LOCATION:Yeager’s Farm and Market Inc.\, 1015 Pikesprings Road\, Phoenixville\, PA\, 19460\, United States
END:VEVENT
BEGIN:VEVENT
DTSTART;TZID=America/New_York:20241208T110000
DTEND;TZID=America/New_York:20241208T150000
DTSTAMP:20260421T074805
CREATED:20231116T165012Z
LAST-MODIFIED:20241117T190845Z
UID:925-1733655600-1733670000@yeagersfarm.com
SUMMARY:Santa Visits
DESCRIPTION:Join Santa as he stops by for photographs with the kids! \nCost: FREE!
URL:https://yeagersfarm.com/event/santa-visits-8/
LOCATION:PA
ATTACH;FMTTYPE=image/jpeg:https://yeagersfarm.com/wp-content/uploads/2022/10/Untitled-1.jpg
END:VEVENT
BEGIN:VEVENT
DTSTART;TZID=America/New_York:20241207T110000
DTEND;TZID=America/New_York:20241207T150000
DTSTAMP:20260421T074805
CREATED:20231116T165553Z
LAST-MODIFIED:20241117T190751Z
UID:929-1733569200-1733583600@yeagersfarm.com
SUMMARY:Santa Visits
DESCRIPTION:Join Santa as he stops by for photographs with the kids! \nCost: FREE!
URL:https://yeagersfarm.com/event/santa-visits-10/
LOCATION:PA
ATTACH;FMTTYPE=image/jpeg:https://yeagersfarm.com/wp-content/uploads/2022/10/Untitled-1.jpg
END:VEVENT
BEGIN:VEVENT
DTSTART;TZID=America/New_York:20241201T110000
DTEND;TZID=America/New_York:20241201T150000
DTSTAMP:20260421T074805
CREATED:20231116T165748Z
LAST-MODIFIED:20241117T190638Z
UID:931-1733050800-1733065200@yeagersfarm.com
SUMMARY:Santa Visits
DESCRIPTION:Join Santa as he stops by for photographs with the kids! \nCost: FREE!
URL:https://yeagersfarm.com/event/santa-visits-12/
LOCATION:PA
ATTACH;FMTTYPE=image/jpeg:https://yeagersfarm.com/wp-content/uploads/2022/10/Untitled-1.jpg
END:VEVENT
BEGIN:VEVENT
DTSTART;TZID=America/New_York:20241130T110000
DTEND;TZID=America/New_York:20241130T150000
DTSTAMP:20260421T074805
CREATED:20231116T165157Z
LAST-MODIFIED:20241117T190522Z
UID:927-1732964400-1732978800@yeagersfarm.com
SUMMARY:Santa Visits
DESCRIPTION:Join Santa as he stops by for photographs with the kids! \nCost: FREE!
URL:https://yeagersfarm.com/event/santa-visits-9/
LOCATION:PA
ATTACH;FMTTYPE=image/jpeg:https://yeagersfarm.com/wp-content/uploads/2022/10/Untitled-1.jpg
END:VEVENT
BEGIN:VEVENT
DTSTART;TZID=America/New_York:20241129T173000
DTEND;TZID=America/New_York:20241129T203000
DTSTAMP:20260421T074805
CREATED:20241021T180930Z
LAST-MODIFIED:20241117T191037Z
UID:1170-1732901400-1732912200@yeagersfarm.com
SUMMARY:Drive through Holiday Light Show - Grand Opening
DESCRIPTION:Enjoy a unique display of tens of thousands of lights and animated displays from the comfort of your own vehicle.  Load up the car with family and friends and traverse the 60 acre/1.1 mile route through the Christmas Tree farm; lit up and synchronized with Holiday songs to celebrate the season! NEW THIS YEAR: No need to selct a date or time for your reservation. Operates every Thursday through Sunday from November 29 through December 30th. Simply purchase a ticket and show up during the Light Show! The show will not operate if there is inclement weather. Please check social media for the latest information.
URL:https://yeagersfarm.com/event/drive-through-holiday-light-show-grand-opening/
LOCATION:PA
ATTACH;FMTTYPE=image/jpeg:https://yeagersfarm.com/wp-content/uploads/2023/11/72100497962__24A6BC10-AF42-4C20-82FB-276B03B79745-3-scaled.jpg
END:VEVENT
BEGIN:VEVENT
DTSTART;TZID=America/New_York:20241129T110000
DTEND;TZID=America/New_York:20241129T150000
DTSTAMP:20260421T074805
CREATED:20231214T150615Z
LAST-MODIFIED:20241117T190251Z
UID:962-1732878000-1732892400@yeagersfarm.com
SUMMARY:Santa Visits
DESCRIPTION:Join Santa as he stops by for photographs with the kids! \nCost: FREE!
URL:https://yeagersfarm.com/event/santa-visits-11/
LOCATION:PA
ATTACH;FMTTYPE=image/jpeg:https://yeagersfarm.com/wp-content/uploads/2022/10/Untitled-1.jpg
END:VEVENT
BEGIN:VEVENT
DTSTART;TZID=America/New_York:20241116T090000
DTEND;TZID=America/New_York:20241116T160000
DTSTAMP:20260421T074805
CREATED:20221028T173211Z
LAST-MODIFIED:20241017T121151Z
UID:642-1731747600-1731772800@yeagersfarm.com
SUMMARY:Christmas Tree 2024 Season Grand Opening!
DESCRIPTION:Join us for the first day of Christmas Tree sales!
URL:https://yeagersfarm.com/event/christmas-tree-2022-season-grand-opening/
LOCATION:Yeager’s Farm and Market Inc.\, 1015 Pikesprings Road\, Phoenixville\, PA\, 19460\, United States
END:VEVENT
BEGIN:VEVENT
DTSTART;TZID=America/New_York:20241110T080000
DTEND;TZID=America/New_York:20241110T120000
DTSTAMP:20260421T074805
CREATED:20231029T131416Z
LAST-MODIFIED:20240929T133731Z
UID:880-1731225600-1731240000@yeagersfarm.com
SUMMARY:Beer & Bagel Run
DESCRIPTION:Join us for a 4ish mile Run through our farm and celebrate after with Beer!
URL:https://yeagersfarm.com/event/beer-bagel-run-2/
LOCATION:Yeager’s Farm and Market Inc.\, 1015 Pikesprings Road\, Phoenixville\, PA\, 19460\, United States
ATTACH;FMTTYPE=image/jpeg:https://yeagersfarm.com/wp-content/uploads/2022/10/Page-Photo_About-2.jpg
END:VEVENT
BEGIN:VEVENT
DTSTART;TZID=America/New_York:20241109T080000
DTEND;TZID=America/New_York:20241109T120000
DTSTAMP:20260421T074805
CREATED:20231029T131028Z
LAST-MODIFIED:20240929T133806Z
UID:878-1731139200-1731153600@yeagersfarm.com
SUMMARY:Beer & Bagel Run
DESCRIPTION:Join us for a 10ish mile Run through our farm and celebrate after with Beer!
URL:https://yeagersfarm.com/event/beer-bagel-run/
LOCATION:Yeager’s Farm and Market Inc.\, 1015 Pikesprings Road\, Phoenixville\, PA\, 19460\, United States
ATTACH;FMTTYPE=image/jpeg:https://yeagersfarm.com/wp-content/uploads/2022/10/Page-Photo_About-2.jpg
END:VEVENT
BEGIN:VEVENT
DTSTART;TZID=America/New_York:20241006T110000
DTEND;TZID=America/New_York:20241006T160000
DTSTAMP:20260421T074805
CREATED:20221104T134512Z
LAST-MODIFIED:20240322T174316Z
UID:701-1728212400-1728230400@yeagersfarm.com
SUMMARY:Fall Festival
DESCRIPTION:Come out to kick off all things Fall! There will be games\, food\, drink along with prizes and activities.
URL:https://yeagersfarm.com/event/fall-festival/
LOCATION:PA
ATTACH;FMTTYPE=image/jpeg:https://yeagersfarm.com/wp-content/uploads/2022/10/Home-Banner_Hay-Rides.jpg
END:VEVENT
BEGIN:VEVENT
DTSTART;TZID=America/New_York:20241005T110000
DTEND;TZID=America/New_York:20241005T160000
DTSTAMP:20260421T074805
CREATED:20240322T174237Z
LAST-MODIFIED:20240322T174237Z
UID:1006-1728126000-1728144000@yeagersfarm.com
SUMMARY:Fall Festival
DESCRIPTION:Come out to kick off all things Fall! There will be games\, food\, drink along with prizes and activities.
URL:https://yeagersfarm.com/event/fall-festival-3/
LOCATION:PA
ATTACH;FMTTYPE=image/jpeg:https://yeagersfarm.com/wp-content/uploads/2022/10/Home-Banner_Hay-Rides.jpg
END:VEVENT
BEGIN:VEVENT
DTSTART;TZID=America/New_York:20231227T090000
DTEND;TZID=America/New_York:20231227T150000
DTSTAMP:20260421T074805
CREATED:20231212T141438Z
LAST-MODIFIED:20231212T141438Z
UID:960-1703667600-1703689200@yeagersfarm.com
SUMMARY:After Christmas Sale
DESCRIPTION:December 26th and 27th \n9am – 3pm \nSpin the wheel for amazing discounts on all the Christmas Gifts! \n*Some exclusions apply
URL:https://yeagersfarm.com/event/after-christmas-sale-2/
LOCATION:PA
END:VEVENT
BEGIN:VEVENT
DTSTART;TZID=America/New_York:20231124T100000
DTEND;TZID=America/New_York:20231124T150000
DTSTAMP:20260421T074805
CREATED:20221205T135843Z
LAST-MODIFIED:20231029T125907Z
UID:728-1700820000-1700838000@yeagersfarm.com
SUMMARY:Santa Visits
DESCRIPTION:Join Santa as he stops by for photographs with the kids! \nCost: FREE!
URL:https://yeagersfarm.com/event/santa-visits-7/
LOCATION:PA
ATTACH;FMTTYPE=image/jpeg:https://yeagersfarm.com/wp-content/uploads/2022/10/Untitled-1.jpg
END:VEVENT
BEGIN:VEVENT
DTSTART;TZID=America/New_York:20231116T173000
DTEND;TZID=America/New_York:20231116T220000
DTSTAMP:20260421T074805
CREATED:20231105T120954Z
LAST-MODIFIED:20231105T120954Z
UID:902-1700155800-1700172000@yeagersfarm.com
SUMMARY:Holiday Light Show Grand Opening!
DESCRIPTION:Join us for the Grand opening of our Drive through Holiday Light Show!
URL:https://yeagersfarm.com/event/holiday-light-show-grand-opening/
LOCATION:Yeager’s Farm and Market Inc.\, 1015 Pikesprings Road\, Phoenixville\, PA\, 19460\, United States
ATTACH;FMTTYPE=image/jpeg:https://yeagersfarm.com/wp-content/uploads/2023/10/light-show-background.jpg
END:VEVENT
BEGIN:VEVENT
DTSTART;TZID=America/New_York:20231008T110000
DTEND;TZID=America/New_York:20231008T160000
DTSTAMP:20260421T074805
CREATED:20221104T134631Z
LAST-MODIFIED:20221104T134631Z
UID:704-1696762800-1696780800@yeagersfarm.com
SUMMARY:Fall Festival
DESCRIPTION:Come out to kick off all things Fall! There will be games\, food\, drink along with prizes and activities.
URL:https://yeagersfarm.com/event/fall-festival-2/
LOCATION:PA
ATTACH;FMTTYPE=image/jpeg:https://yeagersfarm.com/wp-content/uploads/2022/10/Home-Banner_Hay-Rides.jpg
END:VEVENT
BEGIN:VEVENT
DTSTART;VALUE=DATE:20230726
DTEND;VALUE=DATE:20230727
DTSTAMP:20260421T074805
CREATED:20230719T135737Z
LAST-MODIFIED:20230719T135737Z
UID:808-1690329600-1690415999@yeagersfarm.com
SUMMARY:Closed
DESCRIPTION:Yeager’s Farm will be CLOSED for filming.
URL:https://yeagersfarm.com/event/closed/
LOCATION:PA
END:VEVENT
BEGIN:VEVENT
DTSTART;TZID=America/New_York:20221204T100000
DTEND;TZID=America/New_York:20221204T150000
DTSTAMP:20260421T074805
CREATED:20221103T204912Z
LAST-MODIFIED:20221103T204912Z
UID:691-1670148000-1670166000@yeagersfarm.com
SUMMARY:Santa Visits
DESCRIPTION:Join Santa as he stops by for photographs with the kids! \nCost: FREE!
URL:https://yeagersfarm.com/event/santa-visits-6/
LOCATION:PA
ATTACH;FMTTYPE=image/jpeg:https://yeagersfarm.com/wp-content/uploads/2022/10/Untitled-1.jpg
END:VEVENT
BEGIN:VEVENT
DTSTART;TZID=America/New_York:20221203T100000
DTEND;TZID=America/New_York:20221203T150000
DTSTAMP:20260421T074805
CREATED:20221103T204806Z
LAST-MODIFIED:20221103T204806Z
UID:689-1670061600-1670079600@yeagersfarm.com
SUMMARY:Santa Visits
DESCRIPTION:Join Santa as he stops by for photographs with the kids! \nCost: FREE!
URL:https://yeagersfarm.com/event/santa-visits-5/
LOCATION:PA
ATTACH;FMTTYPE=image/jpeg:https://yeagersfarm.com/wp-content/uploads/2022/10/Untitled-1.jpg
END:VEVENT
BEGIN:VEVENT
DTSTART;TZID=America/New_York:20221127T100000
DTEND;TZID=America/New_York:20221127T150000
DTSTAMP:20260421T074805
CREATED:20221103T150558Z
LAST-MODIFIED:20221103T150558Z
UID:684-1669543200-1669561200@yeagersfarm.com
SUMMARY:Santa Visits
DESCRIPTION:Join Santa as he stops by for photographs with the kids! \nCost: FREE!
URL:https://yeagersfarm.com/event/santa-visits-4/
LOCATION:PA
ATTACH;FMTTYPE=image/jpeg:https://yeagersfarm.com/wp-content/uploads/2022/10/Untitled-1.jpg
END:VEVENT
BEGIN:VEVENT
DTSTART;TZID=America/New_York:20221126T100000
DTEND;TZID=America/New_York:20221126T150000
DTSTAMP:20260421T074805
CREATED:20221028T174034Z
LAST-MODIFIED:20221028T174034Z
UID:646-1669456800-1669474800@yeagersfarm.com
SUMMARY:Santa Visits
DESCRIPTION:Join Santa as he stops by for photographs with the kids! \nCost: FREE!
URL:https://yeagersfarm.com/event/santa-visits/
LOCATION:PA
ATTACH;FMTTYPE=image/jpeg:https://yeagersfarm.com/wp-content/uploads/2022/10/Untitled-1.jpg
END:VEVENT
BEGIN:VEVENT
DTSTART;TZID=America/New_York:20221125T100000
DTEND;TZID=America/New_York:20221125T150000
DTSTAMP:20260421T074805
CREATED:20221021T200522Z
LAST-MODIFIED:20221028T174110Z
UID:264-1669370400-1669388400@yeagersfarm.com
SUMMARY:Santa Visits
DESCRIPTION:Join Santa as he stops by for photographs with the kids! \n  \nCost: FREE!
URL:https://yeagersfarm.com/event/santa-at-yeagers/
LOCATION:PA
ATTACH;FMTTYPE=image/jpeg:https://yeagersfarm.com/wp-content/uploads/2022/10/Untitled-1.jpg
END:VEVENT
BEGIN:VEVENT
DTSTART;TZID=America/New_York:20221120T110000
DTEND;TZID=America/New_York:20221120T140000
DTSTAMP:20260421T074805
CREATED:20221103T150446Z
LAST-MODIFIED:20221103T150512Z
UID:682-1668942000-1668952800@yeagersfarm.com
SUMMARY:Santa Visits
DESCRIPTION:Join Santa as he stops by for photographs with the kids! \nCost: FREE!
URL:https://yeagersfarm.com/event/santa-visits-3/
LOCATION:PA
ATTACH;FMTTYPE=image/jpeg:https://yeagersfarm.com/wp-content/uploads/2022/10/Untitled-1.jpg
END:VEVENT
BEGIN:VEVENT
DTSTART;TZID=America/New_York:20221119T110000
DTEND;TZID=America/New_York:20221119T140000
DTSTAMP:20260421T074805
CREATED:20221103T150359Z
LAST-MODIFIED:20221103T150359Z
UID:680-1668855600-1668866400@yeagersfarm.com
SUMMARY:Santa Visits
DESCRIPTION:Join Santa as he stops by for photographs with the kids! \nCost: FREE!
URL:https://yeagersfarm.com/event/santa-visits-2/
LOCATION:PA
ATTACH;FMTTYPE=image/jpeg:https://yeagersfarm.com/wp-content/uploads/2022/10/Untitled-1.jpg
END:VEVENT
END:VCALENDAR